BEGIN:VCALENDAR
VERSION:2.0
PRODID:-//The Golden Grove, St Ann&#039;s Hill - ECPv6.2.4//NONSGML v1.0//EN
CALSCALE:GREGORIAN
METHOD:PUBLISH
X-ORIGINAL-URL:https://www.goldengrovestannshill.com
X-WR-CALDESC:Events for The Golden Grove, St Ann&#039;s Hill
REFRESH-INTERVAL;VALUE=DURATION:PT1H
X-Robots-Tag:noindex
X-PUBLISHED-TTL:PT1H
BEGIN:VTIMEZONE
TZID:UTC
BEGIN:STANDARD
TZOFFSETFROM:+0000
TZOFFSETTO:+0000
TZNAME:UTC
DTSTART:20260101T000000
END:STANDARD
END:VTIMEZONE
BEGIN:VEVENT
DTSTART;TZID=UTC:20260627T200000
DTEND;TZID=UTC:20260627T230000
DTSTAMP:20260423T144618
CREATED:20260407T193236Z
LAST-MODIFIED:20260407T193236Z
UID:10000179-1782590400-1782601200@www.goldengrovestannshill.com
SUMMARY:The JukeBox Duo
DESCRIPTION:NEW YEAR'S EVE				\n				\n				\n				\n									Come and enjoy the funked-up flavours of I AM DC bringing you Glitterbox Disco/House vibes to welcome in 2026!\nFREE ENTRY – music from 7pm.
URL:https://www.goldengrovestannshill.com/event/the-jukebox-27-jun-26/
LOCATION:The Golden Grove\, Ruxbury Rd\, Chertsey\, KT16 9EN\, United Kingdom
ATTACH;FMTTYPE=image/jpeg:https://www.goldengrovestannshill.com/wp-content/uploads/2024/04/the-jukebox-duo.jpg
END:VEVENT
END:VCALENDAR